BEGIN:VCALENDAR
VERSION:2.0
PRODID:-//Plone.org//NONSGML plone.app.event//EN
X-WR-TIMEZONE:Brazil/East
BEGIN:VEVENT
SUMMARY:14ª Sessão Ordinária
DTSTART;TZID=Brazil/East;VALUE=DATE-TIME:20260505T090000
DTEND;TZID=Brazil/East;VALUE=DATE-TIME:20260505T140000
DTSTAMP;VALUE=DATE-TIME:20260423T111806Z
UID:ac4b5c42649943f0a94338ffd3f9c797@www.votorantim.sp.leg.br
CREATED;VALUE=DATE-TIME:20260417T112342Z
LAST-MODIFIED;VALUE=DATE-TIME:20260417T112349Z
LOCATION:Plenário da Câmara
URL:https://www.votorantim.sp.leg.br/institucional/eventos/14a-sessao-ordi
 naria-2
END:VEVENT
BEGIN:VTIMEZONE
TZID:Brazil/East
X-LIC-LOCATION:Brazil/East
BEGIN:STANDARD
DTSTART;VALUE=DATE-TIME:20260221T230000
TZNAME:BRT
TZOFFSETFROM:-0200
TZOFFSETTO:-0300
END:STANDARD
END:VTIMEZONE
END:VCALENDAR
